BEGIN:VCALENDAR
VERSION:2.0
PRODID:-//Tennis Club Porrentruy - ECPv6.15.20//NONSGML v1.0//EN
CALSCALE:GREGORIAN
METHOD:PUBLISH
X-WR-CALNAME:Tennis Club Porrentruy
X-ORIGINAL-URL:https://tc-porrentruy.ch
X-WR-CALDESC:Évènements pour Tennis Club Porrentruy
REFRESH-INTERVAL;VALUE=DURATION:PT1H
X-Robots-Tag:noindex
X-PUBLISHED-TTL:PT1H
BEGIN:VTIMEZONE
TZID:Europe/Zurich
BEGIN:DAYLIGHT
TZOFFSETFROM:+0100
TZOFFSETTO:+0200
TZNAME:CEST
DTSTART:20220327T010000
END:DAYLIGHT
BEGIN:STANDARD
TZOFFSETFROM:+0200
TZOFFSETTO:+0100
TZNAME:CET
DTSTART:20221030T010000
END:STANDARD
BEGIN:DAYLIGHT
TZOFFSETFROM:+0100
TZOFFSETTO:+0200
TZNAME:CEST
DTSTART:20230326T010000
END:DAYLIGHT
BEGIN:STANDARD
TZOFFSETFROM:+0200
TZOFFSETTO:+0100
TZNAME:CET
DTSTART:20231029T010000
END:STANDARD
BEGIN:DAYLIGHT
TZOFFSETFROM:+0100
TZOFFSETTO:+0200
TZNAME:CEST
DTSTART:20240331T010000
END:DAYLIGHT
BEGIN:STANDARD
TZOFFSETFROM:+0200
TZOFFSETTO:+0100
TZNAME:CET
DTSTART:20241027T010000
END:STANDARD
END:VTIMEZONE
BEGIN:VEVENT
DTSTART;TZID=Europe/Zurich:20230515T080000
DTEND;TZID=Europe/Zurich:20230515T170000
DTSTAMP:20260424T124350
CREATED:20230309T132332Z
LAST-MODIFIED:20230309T132332Z
UID:29340-1684137600-1684170000@tc-porrentruy.ch
SUMMARY:Tournoi interne
DESCRIPTION:Tournoi interne\, \nDate limite d’inscription fixée au 9 mai
URL:https://tc-porrentruy.ch/event/tournoi-interne-2/
LOCATION:Tennis Porrentruy\, Chemin des Bains\, Porrentruy\, 2900\, Suisse
CATEGORIES:Tournoi
ATTACH;FMTTYPE=image/jpeg:https://tc-porrentruy.ch/wp-content/uploads/2022/02/TERRE_BATTUE2910-min-250x167-1-e1707129834960.jpg
END:VEVENT
END:VCALENDAR