BEGIN:VCALENDAR
VERSION:2.0
PRODID:-//Tennis Club Porrentruy - ECPv6.15.20//NONSGML v1.0//EN
CALSCALE:GREGORIAN
METHOD:PUBLISH
X-WR-CALNAME:Tennis Club Porrentruy
X-ORIGINAL-URL:https://tc-porrentruy.ch
X-WR-CALDESC:Évènements pour Tennis Club Porrentruy
REFRESH-INTERVAL;VALUE=DURATION:PT1H
X-Robots-Tag:noindex
X-PUBLISHED-TTL:PT1H
BEGIN:VTIMEZONE
TZID:Europe/Zurich
BEGIN:DAYLIGHT
TZOFFSETFROM:+0100
TZOFFSETTO:+0200
TZNAME:CEST
DTSTART:20240331T010000
END:DAYLIGHT
BEGIN:STANDARD
TZOFFSETFROM:+0200
TZOFFSETTO:+0100
TZNAME:CET
DTSTART:20241027T010000
END:STANDARD
BEGIN:DAYLIGHT
TZOFFSETFROM:+0100
TZOFFSETTO:+0200
TZNAME:CEST
DTSTART:20250330T010000
END:DAYLIGHT
BEGIN:STANDARD
TZOFFSETFROM:+0200
TZOFFSETTO:+0100
TZNAME:CET
DTSTART:20251026T010000
END:STANDARD
BEGIN:DAYLIGHT
TZOFFSETFROM:+0100
TZOFFSETTO:+0200
TZNAME:CEST
DTSTART:20260329T010000
END:DAYLIGHT
BEGIN:STANDARD
TZOFFSETFROM:+0200
TZOFFSETTO:+0100
TZNAME:CET
DTSTART:20261025T010000
END:STANDARD
END:VTIMEZONE
BEGIN:VEVENT
DTSTART;VALUE=DATE:20250426
DTEND;VALUE=DATE:20250427
DTSTAMP:20260424T000733
CREATED:20250304T064807Z
LAST-MODIFIED:20250304T064807Z
UID:29548-1745625600-1745711999@tc-porrentruy.ch
SUMMARY:Tournoi officiel
DESCRIPTION:Tournoi officiel \napéro/grillades pour les bénévoles et sponsors
URL:https://tc-porrentruy.ch/event/tournoi-officiel/
LOCATION:Tennis Porrentruy\, Chemin des Bains\, Porrentruy\, 2900\, Suisse
ATTACH;FMTTYPE=image/webp:https://tc-porrentruy.ch/wp-content/uploads/2022/02/10521299.webp
END:VEVENT
END:VCALENDAR