BEGIN:VCALENDAR
VERSION:2.0
PRODID:-//Tennis Club Porrentruy - ECPv6.15.20//NONSGML v1.0//EN
CALSCALE:GREGORIAN
METHOD:PUBLISH
X-WR-CALNAME:Tennis Club Porrentruy
X-ORIGINAL-URL:https://tc-porrentruy.ch
X-WR-CALDESC:Évènements pour Tennis Club Porrentruy
REFRESH-INTERVAL;VALUE=DURATION:PT1H
X-Robots-Tag:noindex
X-PUBLISHED-TTL:PT1H
BEGIN:VTIMEZONE
TZID:Europe/Zurich
BEGIN:DAYLIGHT
TZOFFSETFROM:+0100
TZOFFSETTO:+0200
TZNAME:CEST
DTSTART:20250330T010000
END:DAYLIGHT
BEGIN:STANDARD
TZOFFSETFROM:+0200
TZOFFSETTO:+0100
TZNAME:CET
DTSTART:20251026T010000
END:STANDARD
BEGIN:DAYLIGHT
TZOFFSETFROM:+0100
TZOFFSETTO:+0200
TZNAME:CEST
DTSTART:20260329T010000
END:DAYLIGHT
BEGIN:STANDARD
TZOFFSETFROM:+0200
TZOFFSETTO:+0100
TZNAME:CET
DTSTART:20261025T010000
END:STANDARD
BEGIN:DAYLIGHT
TZOFFSETFROM:+0100
TZOFFSETTO:+0200
TZNAME:CEST
DTSTART:20270328T010000
END:DAYLIGHT
BEGIN:STANDARD
TZOFFSETFROM:+0200
TZOFFSETTO:+0100
TZNAME:CET
DTSTART:20271031T010000
END:STANDARD
END:VTIMEZONE
BEGIN:VEVENT
DTSTART;TZID=Europe/Zurich:20260321T090000
DTEND;TZID=Europe/Zurich:20260321T120000
DTSTAMP:20260425T171847
CREATED:20260404T115934Z
LAST-MODIFIED:20260404T115934Z
UID:29621-1774083600-1774094400@tc-porrentruy.ch
SUMMARY:Matinée de remise en état des installations
DESCRIPTION:
URL:https://tc-porrentruy.ch/event/matinee-de-remise-en-etat-des-installations/
LOCATION:Tennis Club Porrentruy\, Chemin des Bains\, Porrentruy\, 2900\, Switzerland
END:VEVENT
END:VCALENDAR