BEGIN:VCALENDAR
VERSION:2.0
PRODID:-//Tennis Club Porrentruy - ECPv6.15.20//NONSGML v1.0//EN
CALSCALE:GREGORIAN
METHOD:PUBLISH
X-ORIGINAL-URL:https://tc-porrentruy.ch
X-WR-CALDESC:Évènements pour Tennis Club Porrentruy
REFRESH-INTERVAL;VALUE=DURATION:PT1H
X-Robots-Tag:noindex
X-PUBLISHED-TTL:PT1H
BEGIN:VTIMEZONE
TZID:Europe/Zurich
BEGIN:DAYLIGHT
TZOFFSETFROM:+0100
TZOFFSETTO:+0200
TZNAME:CEST
DTSTART:20240331T010000
END:DAYLIGHT
BEGIN:STANDARD
TZOFFSETFROM:+0200
TZOFFSETTO:+0100
TZNAME:CET
DTSTART:20241027T010000
END:STANDARD
BEGIN:DAYLIGHT
TZOFFSETFROM:+0100
TZOFFSETTO:+0200
TZNAME:CEST
DTSTART:20250330T010000
END:DAYLIGHT
BEGIN:STANDARD
TZOFFSETFROM:+0200
TZOFFSETTO:+0100
TZNAME:CET
DTSTART:20251026T010000
END:STANDARD
BEGIN:DAYLIGHT
TZOFFSETFROM:+0100
TZOFFSETTO:+0200
TZNAME:CEST
DTSTART:20260329T010000
END:DAYLIGHT
BEGIN:STANDARD
TZOFFSETFROM:+0200
TZOFFSETTO:+0100
TZNAME:CET
DTSTART:20261025T010000
END:STANDARD
END:VTIMEZONE
BEGIN:VEVENT
DTSTART;TZID=Europe/Zurich:20250503T080000
DTEND;TZID=Europe/Zurich:20250504T170000
DTSTAMP:20260422T234945
CREATED:20240205T104615Z
LAST-MODIFIED:20250302T150601Z
UID:29386-1746259200-1746378000@tc-porrentruy.ch
SUMMARY:Interclubs 1er tour
DESCRIPTION:1er tour du tournoi interclubs
URL:https://tc-porrentruy.ch/event/interclubs-1er-tour/
LOCATION:Tennis Porrentruy\, Chemin des Bains\, Porrentruy\, 2900\, Suisse
CATEGORIES:Tournoi
ATTACH;FMTTYPE=image/jpeg:https://tc-porrentruy.ch/wp-content/uploads/2022/03/tennis_double.jpg
END:VEVENT
END:VCALENDAR