BEGIN:VCALENDAR
VERSION:2.0
PRODID:-//Tennis Club Porrentruy - ECPv6.15.20//NONSGML v1.0//EN
CALSCALE:GREGORIAN
METHOD:PUBLISH
X-WR-CALNAME:Tennis Club Porrentruy
X-ORIGINAL-URL:https://tc-porrentruy.ch
X-WR-CALDESC:Évènements pour Tennis Club Porrentruy
REFRESH-INTERVAL;VALUE=DURATION:PT1H
X-Robots-Tag:noindex
X-PUBLISHED-TTL:PT1H
BEGIN:VTIMEZONE
TZID:Europe/Zurich
BEGIN:DAYLIGHT
TZOFFSETFROM:+0100
TZOFFSETTO:+0200
TZNAME:CEST
DTSTART:20210328T010000
END:DAYLIGHT
BEGIN:STANDARD
TZOFFSETFROM:+0200
TZOFFSETTO:+0100
TZNAME:CET
DTSTART:20211031T010000
END:STANDARD
BEGIN:DAYLIGHT
TZOFFSETFROM:+0100
TZOFFSETTO:+0200
TZNAME:CEST
DTSTART:20220327T010000
END:DAYLIGHT
BEGIN:STANDARD
TZOFFSETFROM:+0200
TZOFFSETTO:+0100
TZNAME:CET
DTSTART:20221030T010000
END:STANDARD
BEGIN:DAYLIGHT
TZOFFSETFROM:+0100
TZOFFSETTO:+0200
TZNAME:CEST
DTSTART:20230326T010000
END:DAYLIGHT
BEGIN:STANDARD
TZOFFSETFROM:+0200
TZOFFSETTO:+0100
TZNAME:CET
DTSTART:20231029T010000
END:STANDARD
END:VTIMEZONE
BEGIN:VEVENT
DTSTART;VALUE=DATE:20220904
DTEND;VALUE=DATE:20220905
DTSTAMP:20260425T183853
CREATED:20220303T094044Z
LAST-MODIFIED:20220303T094044Z
UID:29185-1662249600-1662335999@tc-porrentruy.ch
SUMMARY:Tournoi U9
DESCRIPTION:Tournoi U9
URL:https://tc-porrentruy.ch/event/tournoi-u9/
LOCATION:Tennis Porrentruy\, Chemin des Bains\, Porrentruy\, 2900\, Suisse
CATEGORIES:Tournoi
ATTACH;FMTTYPE=image/webp:https://tc-porrentruy.ch/wp-content/uploads/2022/02/10521299.webp
END:VEVENT
BEGIN:VEVENT
DTSTART;TZID=Europe/Zurich:20220917T120000
DTEND;TZID=Europe/Zurich:20220917T200000
DTSTAMP:20260425T183853
CREATED:20220303T094226Z
LAST-MODIFIED:20220303T094226Z
UID:29187-1663416000-1663444800@tc-porrentruy.ch
SUMMARY:Team Cup
DESCRIPTION:Team Cup (tournoi officiel juniors)\, après-midi uniquement
URL:https://tc-porrentruy.ch/event/team-cup-2/
LOCATION:Tennis Porrentruy\, Chemin des Bains\, Porrentruy\, 2900\, Suisse
CATEGORIES:Tournoi
ATTACH;FMTTYPE=image/png:https://tc-porrentruy.ch/wp-content/uploads/2022/03/tennis_junior.png
END:VEVENT
BEGIN:VEVENT
DTSTART;VALUE=DATE:20220924
DTEND;VALUE=DATE:20220925
DTSTAMP:20260425T183853
CREATED:20220303T094355Z
LAST-MODIFIED:20220303T094355Z
UID:29189-1663977600-1664063999@tc-porrentruy.ch
SUMMARY:Finales du tournoi interne
DESCRIPTION:Week-end des finales du tournoi interne
URL:https://tc-porrentruy.ch/event/finales-du-tournoi-interne/
LOCATION:Tennis Porrentruy\, Chemin des Bains\, Porrentruy\, 2900\, Suisse
CATEGORIES:Tournoi
ATTACH;FMTTYPE=image/webp:https://tc-porrentruy.ch/wp-content/uploads/2022/02/10521299.webp
END:VEVENT
END:VCALENDAR