BEGIN:VCALENDAR
VERSION:2.0
PRODID:-//Tennis Club Porrentruy - ECPv6.15.20//NONSGML v1.0//EN
CALSCALE:GREGORIAN
METHOD:PUBLISH
X-WR-CALNAME:Tennis Club Porrentruy
X-ORIGINAL-URL:https://tc-porrentruy.ch
X-WR-CALDESC:Évènements pour Tennis Club Porrentruy
REFRESH-INTERVAL;VALUE=DURATION:PT1H
X-Robots-Tag:noindex
X-PUBLISHED-TTL:PT1H
BEGIN:VTIMEZONE
TZID:Europe/Zurich
BEGIN:DAYLIGHT
TZOFFSETFROM:+0100
TZOFFSETTO:+0200
TZNAME:CEST
DTSTART:20220327T010000
END:DAYLIGHT
BEGIN:STANDARD
TZOFFSETFROM:+0200
TZOFFSETTO:+0100
TZNAME:CET
DTSTART:20221030T010000
END:STANDARD
BEGIN:DAYLIGHT
TZOFFSETFROM:+0100
TZOFFSETTO:+0200
TZNAME:CEST
DTSTART:20230326T010000
END:DAYLIGHT
BEGIN:STANDARD
TZOFFSETFROM:+0200
TZOFFSETTO:+0100
TZNAME:CET
DTSTART:20231029T010000
END:STANDARD
BEGIN:DAYLIGHT
TZOFFSETFROM:+0100
TZOFFSETTO:+0200
TZNAME:CEST
DTSTART:20240331T010000
END:DAYLIGHT
BEGIN:STANDARD
TZOFFSETFROM:+0200
TZOFFSETTO:+0100
TZNAME:CET
DTSTART:20241027T010000
END:STANDARD
END:VTIMEZONE
BEGIN:VEVENT
DTSTART;VALUE=DATE:20230506
DTEND;VALUE=DATE:20230508
DTSTAMP:20260424T064927
CREATED:20230309T132900Z
LAST-MODIFIED:20230309T132900Z
UID:29342-1683331200-1683503999@tc-porrentruy.ch
SUMMARY:1er tour Interclubs
DESCRIPTION:1er tour Interclubs
URL:https://tc-porrentruy.ch/event/1er-tour-interclubs/
LOCATION:Tennis Porrentruy\, Chemin des Bains\, Porrentruy\, 2900\, Suisse
CATEGORIES:Tournoi
ATTACH;FMTTYPE=image/jpeg:https://tc-porrentruy.ch/wp-content/uploads/2022/03/tennis_double.jpg
END:VEVENT
BEGIN:VEVENT
DTSTART;VALUE=DATE:20230513
DTEND;VALUE=DATE:20230515
DTSTAMP:20260424T064927
CREATED:20230309T132951Z
LAST-MODIFIED:20230309T132951Z
UID:29344-1683936000-1684108799@tc-porrentruy.ch
SUMMARY:: 2e tour Interclubs
DESCRIPTION:: 2e tour Interclubs
URL:https://tc-porrentruy.ch/event/2e-tour-interclubs/
LOCATION:Tennis Porrentruy\, Chemin des Bains\, Porrentruy\, 2900\, Suisse
CATEGORIES:Tournoi
ATTACH;FMTTYPE=image/jpeg:https://tc-porrentruy.ch/wp-content/uploads/2022/03/tennis_double.jpg
END:VEVENT
BEGIN:VEVENT
DTSTART;TZID=Europe/Zurich:20230515T080000
DTEND;TZID=Europe/Zurich:20230515T170000
DTSTAMP:20260424T064927
CREATED:20230309T132332Z
LAST-MODIFIED:20230309T132332Z
UID:29340-1684137600-1684170000@tc-porrentruy.ch
SUMMARY:Tournoi interne
DESCRIPTION:Tournoi interne\, \nDate limite d’inscription fixée au 9 mai
URL:https://tc-porrentruy.ch/event/tournoi-interne-2/
LOCATION:Tennis Porrentruy\, Chemin des Bains\, Porrentruy\, 2900\, Suisse
CATEGORIES:Tournoi
ATTACH;FMTTYPE=image/jpeg:https://tc-porrentruy.ch/wp-content/uploads/2022/02/TERRE_BATTUE2910-min-250x167-1-e1707129834960.jpg
END:VEVENT
BEGIN:VEVENT
DTSTART;VALUE=DATE:20230520
DTEND;VALUE=DATE:20230522
DTSTAMP:20260424T064927
CREATED:20230309T133039Z
LAST-MODIFIED:20230309T133039Z
UID:29346-1684540800-1684713599@tc-porrentruy.ch
SUMMARY:3e tour Interclubs
DESCRIPTION:3e tour Interclubs
URL:https://tc-porrentruy.ch/event/3e-tour-interclubs/
LOCATION:Tennis Porrentruy\, Chemin des Bains\, Porrentruy\, 2900\, Suisse
CATEGORIES:Tournoi
ATTACH;FMTTYPE=image/jpeg:https://tc-porrentruy.ch/wp-content/uploads/2022/03/tennis_double.jpg
END:VEVENT
END:VCALENDAR